BEGIN:VCALENDAR
VERSION:2.0
PRODID:-//Atelier Galeart - ECPv6.15.20//NONSGML v1.0//EN
CALSCALE:GREGORIAN
METHOD:PUBLISH
X-WR-CALNAME:Atelier Galeart
X-ORIGINAL-URL:https://atelier-galeart.com
X-WR-CALDESC:Évènements pour Atelier Galeart
REFRESH-INTERVAL;VALUE=DURATION:PT1H
X-Robots-Tag:noindex
X-PUBLISHED-TTL:PT1H
BEGIN:VTIMEZONE
TZID:Europe/Paris
BEGIN:DAYLIGHT
TZOFFSETFROM:+0100
TZOFFSETTO:+0200
TZNAME:CEST
DTSTART:20250330T010000
END:DAYLIGHT
BEGIN:STANDARD
TZOFFSETFROM:+0200
TZOFFSETTO:+0100
TZNAME:CET
DTSTART:20251026T010000
END:STANDARD
BEGIN:DAYLIGHT
TZOFFSETFROM:+0100
TZOFFSETTO:+0200
TZNAME:CEST
DTSTART:20260329T010000
END:DAYLIGHT
BEGIN:STANDARD
TZOFFSETFROM:+0200
TZOFFSETTO:+0100
TZNAME:CET
DTSTART:20261025T010000
END:STANDARD
BEGIN:DAYLIGHT
TZOFFSETFROM:+0100
TZOFFSETTO:+0200
TZNAME:CEST
DTSTART:20270328T010000
END:DAYLIGHT
BEGIN:STANDARD
TZOFFSETFROM:+0200
TZOFFSETTO:+0100
TZNAME:CET
DTSTART:20271031T010000
END:STANDARD
END:VTIMEZONE
BEGIN:VEVENT
DTSTART;TZID=Europe/Paris:20260424T000000
DTEND;TZID=Europe/Paris:20260424T000000
DTSTAMP:20260425T193114
CREATED:20260424T141339Z
LAST-MODIFIED:20260424T141619Z
UID:581-1776988800-1776988800@atelier-galeart.com
SUMMARY:Cuisson Raku - Pujaudran
DESCRIPTION:Emaillez et cuisez vos pièces Raku.
URL:https://atelier-galeart.com/event/cuisson-raku-pujaudran/
LOCATION:Pujaudran – Toulouse Ouest\, 995 avenue du roulage\, Pujaudran\, 32600\, France
CATEGORIES:Tournage
ORGANIZER;CN="Ga%C3%ABlle":MAILTO:contact@galeart.fr
END:VEVENT
END:VCALENDAR